BEGIN:VCALENDAR
VERSION:2.0
PRODID:-//wp-events-plugin.com//7.2.3.1//EN
BEGIN:VEVENT
UID:330@frohsinn-huettenberg.de
DTSTART:20180704T230000Z
DTEND:20180704T230000Z
DTSTAMP:20180618T110338Z
URL:https://frohsinn-huettenberg.de/events/staendchen-erich-taegl/
SUMMARY:Ständchen | Erich Tägl
DESCRIPTION:
END:VEVENT
END:VCALENDAR