BEGIN:VCALENDAR
VERSION:2.0
PRODID:-//wp-events-plugin.com//7.2.3.1//EN
BEGIN:VEVENT
UID:332@frohsinn-huettenberg.de
DTSTART:20180902T123000Z
DTEND:20180902T190000Z
DTSTAMP:20180830T192558Z
URL:https://frohsinn-huettenberg.de/events/kirmesumzug/
SUMMARY:Kirmesumzug
DESCRIPTION:
END:VEVENT
END:VCALENDAR